Workbook

Sheet Chauvenet
A1: berekening | B1: onafgerond | C1: afgerond | D1: formule
A2: gemiddelde | B2: =AVERAGE(Data!A:A) -> 3.3833333 | C2: =ROUND(B2,2) -> 3.38 | D2: ="=GEMIDDELDE(A:A)" -> =GEMIDDELDE(A:A)
A3: standaardafwijking ("N-1") | B3: =_xlfn.STDEV.S(Data!A:A) -> 0.80353386 | C3: =ROUND(B3,4) -> 0.8035 | D3: ="=STDEV.S(A:A)" -> =STDEV.S(A:A)
A4: hoogste | B4: =MAX(Data!A:A) -> 3.9 | C4: =B4 -> 3.9 | D4: ="=MAX(A:A)" -> =MAX(A:A)
A5: laagste | B5: =MIN(Data!A:A) -> 1.8 | C5: =B5 -> 1.8 | D5: ="=MIN(A:A)" -> =MIN(A:A)
A6: afwijking 1 | B6: =B4-B2 -> 0.51666667 | C6: =ROUND(B6,2) -> 0.52 | D6: ="=C3-C1" -> =C3-C1
A7: afwijking 2 | B7: =B2-B5 -> 1.5833333 | C7: =ROUND(B7,2) -> 1.58 | D7: ="=C1-C4" -> =C1-C4
A8: grootste afwijking | B8: =MAX(B6:B7) -> 1.5833333 | C8: =ROUND(B8,2) -> 1.58 | D8: ="=MAX(C5:C6)" -> =MAX(C5:C6)
A9: verdachte waarde | B9: =IF(B6>B7,B4,B5) -> 1.8 | C9: =B9 -> 1.8 | D9: ="=ALS(C5>C6;C3;C4)" -> =ALS(C5>C6;C3;C4)
A10: aantal metingen | B10: =COUNTA(Data!A:A) -> 6 | C10: =B10 -> 6 | D10: ="=AANTALARG(A:A)" -> =AANTALARG(A:A)
A11: aantal keer std | B11: =B8/B3 -> 1.9704625 | C11: =ROUND(C8/C3,2) -> 1.97 | D11: ="=C7/C2" -> =C7/C2
A12: aflezen tabel | C12: =ROUND(NORMDIST(C11,0,1,TRUE),4) -> 0.9756 | D12: ="=AFRONDEN(NORM.VERD(D10;0;1;WAAR);4)" -> =AFRONDEN(NORM.VERD(D10;0;1;WAAR);4)
A13: kans kleiner (of groter) | B13: =1-NORMDIST(B11,0,1,TRUE) -> 0.024392695 | C13: =1-C12 -> 0.0244 | D13: ="=1-NORM.VERD(C10;0;1;WAAR)" -> =1-NORM.VERD(C10;0;1;WAAR)
A14: kans grotere afwijking | B14: =2*B13 -> 0.04878539 | C14: =2*C13 -> 0.0488 | D14: ="=2*C11" -> =2*C11
A15: verwachtingswaarde | B15: =B10*B14 -> 0.29271234 | C15: =C10*C14 -> 0.2928 | D15: ="=C9*C12" -> =C9*C12
A16: VERWERPEN? | B16: =B15<0.5 -> TRUE | C16: =C15<0.5 -> TRUE | D16: ="=C13<0,5" -> =C13<0,5

Sheet Data
A1: 3.8
A2: 3.5
A3: 3.9
A4: 3.9
A5: 3.4
A6: 1.8
